BEGIN:VCALENDAR
VERSION:2.0
PRODID:-//heimatverein-buchloe.de - ECPv6.15.20//NONSGML v1.0//EN
CALSCALE:GREGORIAN
METHOD:PUBLISH
X-WR-CALNAME:heimatverein-buchloe.de
X-ORIGINAL-URL:https://heimatverein-buchloe.de
X-WR-CALDESC:Veranstaltungen für heimatverein-buchloe.de
REFRESH-INTERVAL;VALUE=DURATION:PT1H
X-Robots-Tag:noindex
X-PUBLISHED-TTL:PT1H
BEGIN:VTIMEZONE
TZID:Europe/Berlin
BEGIN:DAYLIGHT
TZOFFSETFROM:+0100
TZOFFSETTO:+0200
TZNAME:CEST
DTSTART:20180325T010000
END:DAYLIGHT
BEGIN:STANDARD
TZOFFSETFROM:+0200
TZOFFSETTO:+0100
TZNAME:CET
DTSTART:20181028T010000
END:STANDARD
BEGIN:DAYLIGHT
TZOFFSETFROM:+0100
TZOFFSETTO:+0200
TZNAME:CEST
DTSTART:20190331T010000
END:DAYLIGHT
BEGIN:STANDARD
TZOFFSETFROM:+0200
TZOFFSETTO:+0100
TZNAME:CET
DTSTART:20191027T010000
END:STANDARD
BEGIN:DAYLIGHT
TZOFFSETFROM:+0100
TZOFFSETTO:+0200
TZNAME:CEST
DTSTART:20200329T010000
END:DAYLIGHT
BEGIN:STANDARD
TZOFFSETFROM:+0200
TZOFFSETTO:+0100
TZNAME:CET
DTSTART:20201025T010000
END:STANDARD
END:VTIMEZONE
BEGIN:VEVENT
DTSTART;TZID=Europe/Berlin:20190503T200000
DTEND;TZID=Europe/Berlin:20190503T220000
DTSTAMP:20260424T121718
CREATED:20190312T161421Z
LAST-MODIFIED:20190502T103129Z
UID:330-1556913600-1556920800@heimatverein-buchloe.de
SUMMARY:Eröffnung der Ausstellung "Energiewende" im Heimatmuseum
DESCRIPTION:Liebe Mitglieder des Heimatvereins\,\n\n\n\n\n\n\n\n\n\n\nder Heimatverein für Buchloe und Umgebung e. V. ist nicht nur ein Geschichts- und Museumsverein. Der Begriff Heimat umfasst auch die Bereiche Natur\, Kultur und Umwelt. Wir gestalten heute\, was man sich in 70 Jahren im Museum ansehen kann.\n\n\n\n\n\n\n\n\n\n\n\nDer Heimatverein möchte Sie zusammen mit der Unabhängigen Bürgerinitiative (UBI) und dem Bund für Umwelt und Naturschutz Deutschland (BUND) zur \n\n\n\n\n\n\n\n\n\n\n\n\n\n\n\n\nEröffnung der Ausstellung \n„Energiewende“ \n\n\n\n\n\n\n\n\n\n\n\n\n\n\n\n\nam Freitag\, 3. Mai 2019 um 20 Uhr ins Heimatmuseum (Schrannenboden) einladen. \nWir würden uns freuen\, Sie an diesem Abend im Museum begrüßen zu dürfen. \n\n\n\n\n\n\n\n\n\n\n\n\n\n\n\n\nBeachten Sie bitte auch die zusätzlichen Öffnungszeiten (AKTUELLES) und das Programm vom 13. bis zum 17. Mai hier im Museum im Veranstaltungskalender. \n\n\n\n\n\n\n\n\n\n\n\n\n\n\n\n\n\n\n\nMit freundlichen Grüßen\n\n\n\n\n\n\n\n\n\n\n\n\nHerbert Wintersohl\, 1. Vorsitzender\n\n\n\n\n\n\n\n\n\n\n\n\nJahnstr. 18a\, 86807 Buchloe\n\n\n\n\n\n\n\n\n\n\n\n\nTel. 08241/919187; E-Mail: wintersohls@web.de
URL:https://heimatverein-buchloe.de/event/eroeffnung-der-ausstellung-energiewende-im-heimatmuseum/
END:VEVENT
END:VCALENDAR