BEGIN:VCALENDAR
VERSION:2.0
PRODID:-//heimatverein-buchloe.de - ECPv6.15.20//NONSGML v1.0//EN
CALSCALE:GREGORIAN
METHOD:PUBLISH
X-ORIGINAL-URL:https://heimatverein-buchloe.de
X-WR-CALDESC:Veranstaltungen für heimatverein-buchloe.de
REFRESH-INTERVAL;VALUE=DURATION:PT1H
X-Robots-Tag:noindex
X-PUBLISHED-TTL:PT1H
BEGIN:VTIMEZONE
TZID:Europe/Berlin
BEGIN:DAYLIGHT
TZOFFSETFROM:+0100
TZOFFSETTO:+0200
TZNAME:CEST
DTSTART:20180325T010000
END:DAYLIGHT
BEGIN:STANDARD
TZOFFSETFROM:+0200
TZOFFSETTO:+0100
TZNAME:CET
DTSTART:20181028T010000
END:STANDARD
BEGIN:DAYLIGHT
TZOFFSETFROM:+0100
TZOFFSETTO:+0200
TZNAME:CEST
DTSTART:20190331T010000
END:DAYLIGHT
BEGIN:STANDARD
TZOFFSETFROM:+0200
TZOFFSETTO:+0100
TZNAME:CET
DTSTART:20191027T010000
END:STANDARD
BEGIN:DAYLIGHT
TZOFFSETFROM:+0100
TZOFFSETTO:+0200
TZNAME:CEST
DTSTART:20200329T010000
END:DAYLIGHT
BEGIN:STANDARD
TZOFFSETFROM:+0200
TZOFFSETTO:+0100
TZNAME:CET
DTSTART:20201025T010000
END:STANDARD
END:VTIMEZONE
BEGIN:VEVENT
DTSTART;TZID=Europe/Berlin:20190516T200000
DTEND;TZID=Europe/Berlin:20190516T220000
DTSTAMP:20260422T121205
CREATED:20190312T162151Z
LAST-MODIFIED:20190502T095442Z
UID:337-1558036800-1558044000@heimatverein-buchloe.de
SUMMARY:Welche Möglichkeiten habe ich\, um aktiv zur Energiewende beizutragen?
DESCRIPTION:„Wie kann ich zur Energiewende beitragen?“\nVortrag: Dr. Herbert Barthel\, Bund für Umwelt und Naturschutz Deutschland (BUND)\, Nürnberg \nGemeinsame Veranstaltung mit dem Bund Naturschutz (BN)\, Ortsgruppe Gennach-Singold
URL:https://heimatverein-buchloe.de/event/welche-moeglichkeiten-habe-ich-um-aktiv-zur-energiewende-beizutragen/
END:VEVENT
END:VCALENDAR