BEGIN:VCALENDAR
VERSION:2.0
PRODID:-//heimatverein-buchloe.de - ECPv6.15.20//NONSGML v1.0//EN
CALSCALE:GREGORIAN
METHOD:PUBLISH
X-ORIGINAL-URL:https://heimatverein-buchloe.de
X-WR-CALDESC:Veranstaltungen für heimatverein-buchloe.de
REFRESH-INTERVAL;VALUE=DURATION:PT1H
X-Robots-Tag:noindex
X-PUBLISHED-TTL:PT1H
BEGIN:VTIMEZONE
TZID:Europe/Berlin
BEGIN:DAYLIGHT
TZOFFSETFROM:+0100
TZOFFSETTO:+0200
TZNAME:CEST
DTSTART:20180325T010000
END:DAYLIGHT
BEGIN:STANDARD
TZOFFSETFROM:+0200
TZOFFSETTO:+0100
TZNAME:CET
DTSTART:20181028T010000
END:STANDARD
BEGIN:DAYLIGHT
TZOFFSETFROM:+0100
TZOFFSETTO:+0200
TZNAME:CEST
DTSTART:20190331T010000
END:DAYLIGHT
BEGIN:STANDARD
TZOFFSETFROM:+0200
TZOFFSETTO:+0100
TZNAME:CET
DTSTART:20191027T010000
END:STANDARD
BEGIN:DAYLIGHT
TZOFFSETFROM:+0100
TZOFFSETTO:+0200
TZNAME:CEST
DTSTART:20200329T010000
END:DAYLIGHT
BEGIN:STANDARD
TZOFFSETFROM:+0200
TZOFFSETTO:+0100
TZNAME:CET
DTSTART:20201025T010000
END:STANDARD
END:VTIMEZONE
BEGIN:VEVENT
DTSTART;TZID=Europe/Berlin:20190210T140000
DTEND;TZID=Europe/Berlin:20190317T170000
DTSTAMP:20260422T133336
CREATED:20190312T141858Z
LAST-MODIFIED:20190314T194517Z
UID:314-1549807200-1552842000@heimatverein-buchloe.de
SUMMARY:Sonderausstellung "Schreinerei Heinz -- Wahl"
DESCRIPTION:Wegen der grossen Nachfrage wird Die Ausstellung um die Sonntage\n24. und 31. März 2019 verlängert
URL:https://heimatverein-buchloe.de/event/sonderausstellung-schreinerei-heinz-wahl/
END:VEVENT
BEGIN:VEVENT
DTSTART;TZID=Europe/Berlin:20190327T190000
DTEND;TZID=Europe/Berlin:20190327T220000
DTSTAMP:20260422T133336
CREATED:20190314T192523Z
LAST-MODIFIED:20190318T161558Z
UID:444-1553713200-1553724000@heimatverein-buchloe.de
SUMMARY:Waaler Bilderabend
DESCRIPTION:
URL:https://heimatverein-buchloe.de/event/waaler-bilderabend/
LOCATION:Deutsches Haus in Waal
END:VEVENT
END:VCALENDAR